BEGIN:VCALENDAR
VERSION:2.0
PRODID:-//Tukios.com/
BEGIN:VEVENT
UID:b23ddd55-6c5e-47cb-9325-a60edad4929c@www.hartquistfuneral.com
DTSTAMP:20260420T185043Z
DTSTART:20260422T220000Z
DTEND:20260423T000000Z
SUMMARY:Visitation
DESCRIPTION:
URL:https://www.hartquistfuneral.com/obituaries/alice-boyenga
LOCATION: 207 Elm St  Luverne MN 56156
GEO:43.6638761;-96.2120058
END:VEVENT
END:VCALENDAR