BEGIN:VCALENDAR
VERSION:2.0
PRODID:-//Tukios.com/
BEGIN:VEVENT
UID:661a7490-e063-4c24-9797-682017398e10@www.hartquistfuneral.com
DTSTAMP:20260420T184832Z
DTSTART:20260423T153000Z
DTEND:20260423T163000Z
SUMMARY:Funeral Service
DESCRIPTION:
URL:https://www.hartquistfuneral.com/obituaries/alice-boyenga
LOCATION: 302 Central Lane PO Box 568  Luverne MN 56156
GEO:43.6652158;-96.2131204
END:VEVENT
END:VCALENDAR