BEGIN:VCALENDAR
VERSION:2.0
PRODID:-//Tukios.com/
BEGIN:VEVENT
UID:b55d93dc-047e-48e6-9659-af8e9d7562c2@www.hartquistfuneral.com
DTSTAMP:20260420T184832Z
DTSTART:20260423
SUMMARY:Interment
DESCRIPTION:
URL:https://www.hartquistfuneral.com/obituaries/alice-boyenga
LOCATION: 1242 W. Warren St.  Luverne MN 56156
GEO:43.6544965;-96.2312177
END:VEVENT
END:VCALENDAR